BEGIN:VCALENDAR
VERSION:2.0
PRODID:-//hacksw/handcal//NONSGML v1.0//EN
BEGIN:VEVENT
SUMMARY:(U18F1) CADETTES 1
UID:50a16bea-6a45-4ca9-8e71-12c23f798d7d
DTSTART:20260613T110000Z
DTEND:20260613T220000Z
LOCATION:UO Pamiers Basket Salle Paulin Palmade. 8, Avenue de la Rijole 09100 Pamiers
CATEGORIES:Sportif
STATUS:
URL;VALUE=URI:https://www.uopbasket.fr/evenements/2026/06/13/u18f1-cadettes-1-2343515
END:VEVENT
END:VCALENDAR
